BEGIN:VCALENDAR
VERSION:2.0
PRODID:-//De Groene Ketel - ECPv6.15.20//NONSGML v1.0//EN
CALSCALE:GREGORIAN
METHOD:PUBLISH
X-ORIGINAL-URL:https://degroeneketel.nl
X-WR-CALDESC:Evenementen voor De Groene Ketel
REFRESH-INTERVAL;VALUE=DURATION:PT1H
X-Robots-Tag:noindex
X-PUBLISHED-TTL:PT1H
BEGIN:VTIMEZONE
TZID:Europe/Amsterdam
BEGIN:DAYLIGHT
TZOFFSETFROM:+0100
TZOFFSETTO:+0200
TZNAME:CEST
DTSTART:20250330T010000
END:DAYLIGHT
BEGIN:STANDARD
TZOFFSETFROM:+0200
TZOFFSETTO:+0100
TZNAME:CET
DTSTART:20251026T010000
END:STANDARD
BEGIN:DAYLIGHT
TZOFFSETFROM:+0100
TZOFFSETTO:+0200
TZNAME:CEST
DTSTART:20260329T010000
END:DAYLIGHT
BEGIN:STANDARD
TZOFFSETFROM:+0200
TZOFFSETTO:+0100
TZNAME:CET
DTSTART:20261025T010000
END:STANDARD
BEGIN:DAYLIGHT
TZOFFSETFROM:+0100
TZOFFSETTO:+0200
TZNAME:CEST
DTSTART:20270328T010000
END:DAYLIGHT
BEGIN:STANDARD
TZOFFSETFROM:+0200
TZOFFSETTO:+0100
TZNAME:CET
DTSTART:20271031T010000
END:STANDARD
END:VTIMEZONE
BEGIN:VEVENT
DTSTART;TZID=Europe/Amsterdam:20260509T093000
DTEND;TZID=Europe/Amsterdam:20260509T123000
DTSTAMP:20260425T143338
CREATED:20251222T103250Z
LAST-MODIFIED:20251222T110803Z
UID:4067-1778319000-1778329800@degroeneketel.nl
SUMMARY:Verhalenwandeling – Vrouw Holle en andere mythen & sagen
DESCRIPTION:Verhalenwandeling met lunch in Wageningen \nMythen\, sagen en het landschap van de Zuid-Veluwe\nTijdens deze verhalenwandeling in Wageningen ontdek je twee contrasterende landschappen van het Stroomgebied Zuid-Veluwe: de Wageningse Berg met zijn bos en stuwwal\, en de open uiterwaarden langs de rivier. \nOnder begeleiding van Marieke van Leersum wandel je langs: \n\nde Holleweg\nrestanten van een oude kapel\nbomen en struiken vol oude volksverhalen en mythen\n\nWe staan stil bij figuren als Vrouw Holle\, en bij de betekenis van bomen zoals de vlier en meidoorn. Ook komen de druïdische jaarfeesten\, godinnen en natuurkrachten aan bod\, waaronder Beltane\, het feest van vruchtbaarheid en nieuw leven. \nVan verhaal naar smaak\nHalverwege is er een korte pauze met thee en iets lekkers. Rond 12.30 uur sluiten we af in de kookstudio van De Groene Ketel\, waar een uitgebreide lunch klaarstaat en ruimte is om na te praten.
URL:https://degroeneketel.nl/event/verhalenwandeling-wageningen/
LOCATION:Wageningen\, Wageningen
ATTACH;FMTTYPE=image/jpeg:https://degroeneketel.nl/wp-content/uploads/2024/11/panlopenmooi-scaled-e1766401009989.jpg
ORGANIZER;CN="Marieke":MAILTO:info@degroeneketel.nl
END:VEVENT
BEGIN:VEVENT
DTSTART;TZID=Europe/Amsterdam:20260517T110000
DTEND;TZID=Europe/Amsterdam:20260517T163000
DTSTAMP:20260425T143338
CREATED:20251222T103608Z
LAST-MODIFIED:20251222T112017Z
UID:4071-1779015600-1779035400@degroeneketel.nl
SUMMARY:Veluwe & Voorouders – Grafheuvels\, bronnen & rituelen
DESCRIPTION:Wandeling langs krachtplekken in Ede & Renkum (Veluwe) \nVerbinding met het oude landschap van de Veluwe\nTijdens deze verdiepende dagwandeling op de Veluwe maak je een reis door tijd en landschap. Samen met druïde Marieke van Leersum bezoek je grafheuvels\, bronnen en heilige plekken waar mensen al eeuwenlang betekenis aan geven. \nWe starten bij de Heksensteen in Ede\, waar verhalen klinken over: \n\nheksen en juffers\nWitte Wieven\nleylijnen en krachtplekken\nde overgang van heidense naar christelijke tradities\n\nNa een gezamenlijke lunchpauze reizen we door naar landgoed Quadenoord\, waar we dieper ingaan op: \n\nelementen en seizoenen\ndruïden\, priesteressen en rituelen\nde spirituele energie van het land\n\nWe sluiten af met een klein\, zorgvuldig begeleid ritueel om de verbinding met het landschap bewust te ervaren.
URL:https://degroeneketel.nl/event/wandeling-veluwe/
LOCATION:Ede & Landgoed Quadenoord\, Ede
ATTACH;FMTTYPE=image/jpeg:https://degroeneketel.nl/wp-content/uploads/2024/11/duizendbladpluk-scaled-e1766400692807.jpg
ORGANIZER;CN="Marieke":MAILTO:info@degroeneketel.nl
END:VEVENT
BEGIN:VEVENT
DTSTART;TZID=Europe/Amsterdam:20260522T100000
DTEND;TZID=Europe/Amsterdam:20260522T153000
DTSTAMP:20260425T143338
CREATED:20260407T094853Z
LAST-MODIFIED:20260407T120035Z
UID:4239-1779444000-1779463800@degroeneketel.nl
SUMMARY:Workshop Natuurlijke Voeding & Wildpluk
DESCRIPTION:Wildpluk & Natuurlijke Voeding\nEen dag vol smaak\, natuur en inspiratie \nWist je dat de gezondste voeding vaak niet in de supermarkt ligt\, maar gewoon om je heen groeit? Verse kruiden\, wildplukgroenten en onbewerkte ingrediënten van gezonde bodem zijn ongelooflijk voedingsrijk: maar waar vind je ze en hoe verwerk je ze in je dagelijkse eten? \nOp deze inspirerende dag bij De Groene Ketel ontdek je het antwoord. We nemen je mee van de uiterwaarden tot in de keuken: van wildplukken in de natuur tot een verse\, vitale lunch die je zelf hebt bereid. \nWat kun je verwachten? \nWe starten de dag in de kookstudio met koffie\, kruidenthee en een gezonde zoete snack. Na een korte introductie wandelen we samen naar de uiterwaarden voor een wildplukwandeling plus: een hands-on rondleiding waarbij je leert welke planten en kruiden je kunt eten\, wat ze je lichaam geven en waarom gezonde bodem zo bepalend is voor de voedingswaarde van je groenten. \nTerug in de keuken maken we samen een heerlijke lunch met verse wildplukkruiden en natuurlijke ingrediënten. Daarna duiken we in de praktijk van alledag: wat eet je zo door de week? We bespreken voorbeeldmenu’s voor ontbijt\, lunch\, avondeten en tussendoortjes\, en we kijken samen naar jouw keukenkast; wat heb je op voorraad voor een gezonde\, natuurlijke basis? \nIn de middag bereiden we nog een aantal zoete en hartige gerechten die je gewoon lekker meeneemt naar huis. \nNa deze dag weet jij: \n\nWaar je natuurlijke\, onbewerkte voeding vindt (ook zonder moestuin)\nWelke wilde planten en kruiden eetbaar en voedingrijk zijn\nHoe je een uitgebalanceerd dagmenu samenstelt met verse\, vitale ingrediënten\nHoe je dit allemaal makkelijk en lekker integreert in je dagelijkse leven\n\nPrijs is inclusief koffie\, kruidenthee\, snack\, lunch én gerechtjes om mee naar huis te nemen. \nOok te boeken als maatwerkdag vanaf 4 personen.
URL:https://degroeneketel.nl/event/workshop-natuurlijke-voeding-wildpluk/
LOCATION:Renkum / Wageningen omgeving\, Renkum\, Gelderland\, Netherlands
ATTACH;FMTTYPE=image/jpeg:https://degroeneketel.nl/wp-content/uploads/2026/04/wildplukken-e1775557243236.jpeg
ORGANIZER;CN="Marieke":MAILTO:info@degroeneketel.nl
END:VEVENT
BEGIN:VEVENT
DTSTART;TZID=Europe/Amsterdam:20260531T103000
DTEND;TZID=Europe/Amsterdam:20260531T130000
DTSTAMP:20260425T143338
CREATED:20260407T120657Z
LAST-MODIFIED:20260409T062324Z
UID:4260-1780223400-1780232400@degroeneketel.nl
SUMMARY:Wildplukwandeling
DESCRIPTION:We starten de wildplukwandeling in onze kookstudio in Wageningen met een kopje kruidige thee en wat lekkers om rustig te landen. \nRond 10.45 uur wandelen we samen naar de uiterwaarden\, waar Marieke je meeneemt op een inspirerende ontdekkingsreis langs kruiden en bomen. Ontdek welke planten eetbaar zijn\, welke voedingswaarde ze hebben en hoe je ze kunt gebruiken in de keuken. Onderweg proef je van een wildplukproeverij en hoor je verhalen\, mythologische weetjes en verrassende tips uit de wereld van wildpluk en natuur. \nEen middag vol inspiratie\, kennis én praktische tips om de natuur letterlijk op je bord te brengen!
URL:https://degroeneketel.nl/event/wildpluk-wandeling-3/
LOCATION:Renkum / Wageningen omgeving\, Renkum\, Gelderland\, Netherlands
ATTACH;FMTTYPE=image/jpeg:https://degroeneketel.nl/wp-content/uploads/2024/11/brandnetelmand-scaled-e1762270091394.jpg
ORGANIZER;CN="Marieke":MAILTO:info@degroeneketel.nl
END:VEVENT
BEGIN:VEVENT
DTSTART;TZID=Europe/Amsterdam:20260911T103000
DTEND;TZID=Europe/Amsterdam:20260911T160000
DTSTAMP:20260425T143338
CREATED:20260128T150208Z
LAST-MODIFIED:20260128T150253Z
UID:4158-1789122600-1789142400@degroeneketel.nl
SUMMARY:Kookworkshop Moonpause Voeding & Overgang
DESCRIPTION:De overgang is een periode waarin je lichaam en hormonen wat extra aandacht verdienen. Tijdens deze workshop ontdek je hoe voeding je in deze fase kan ondersteunen. Samen duiken we de keuken in om eenvoudige\, heerlijke gerechten te bereiden. Je leert welke voedingsmiddelen in je keukenkast of koelkast essentieel zijn en hoe je op een praktische manier voeding kunt integreren die je hormoonbalans ondersteunt. \nWe starten de dag met heldere\, duidelijke informatie over hormonen en voeding. Daarna gaan we gezamenlijk aan de slag in de keuken om een uitgebreide lunch te bereiden\, inclusief handige tips en trucs die je thuis eenvoudig kunt toepassen. Na de lunch maken we diverse gezonde en voedzame snacks: lekkere tussendoortjes die goed zijn voor je lijf. \nDeze workshop is ook geschikt voor iedereen die gezonder wil leven en koken\, ook als je niet in de overgang bent. \nInclusief koffie\, thee\, lekkers en een voedzame ‘overgangs’-lunch.
URL:https://degroeneketel.nl/event/kookworkshop-moonpause-voeding-overgang/
LOCATION:De Groene Ketel\, Nude 28B\, Wageningen\, Gelderland\, 6702 DJ\, Netherlands
ATTACH;FMTTYPE=image/jpeg:https://degroeneketel.nl/wp-content/uploads/2024/11/meidoornhanden-scaled-e1762269535246.jpg
ORGANIZER;CN="Marieke":MAILTO:info@degroeneketel.nl
END:VEVENT
BEGIN:VEVENT
DTSTART;TZID=Europe/Amsterdam:20260920T110000
DTEND;TZID=Europe/Amsterdam:20260920T110000
DTSTAMP:20260425T143338
CREATED:20250702T085503Z
LAST-MODIFIED:20260128T151634Z
UID:3618-1789902000-1789902000@degroeneketel.nl
SUMMARY:Workshop Eetbare Bloemen
DESCRIPTION:Alles wordt mooier met bloemen – ook eten!\n\n \nHeb je het wel eens gezien\, zo’n prachtig gerecht met bloemen erop? Een salade met kleurrijke bloemblaadjes\, cakejes met viooltjes\, boter met geurige kruidenbloemen of een olie of azijn waarin bloemblaadjes dansen? Misschien vraag je je af: Hoe doen mensen dat? Welke bloemen zijn eigenlijk eetbaar? Welke passen bij zoete gerechten\, en welke juist bij hartige? Hebben bloemen voedingswaarde\, of zijn ze vooral mooi? \nAl deze vragen beantwoorden we in onze nieuwe workshop over eetbare bloemen! \nVan tuin tot tafel\nEetbare bloemen geven niet alleen kleur en smaak aan je gerechten\, ze zijn ook heel leuk om zelf te kweken. Verse bloemen zijn vaak kostbaar om te kopen en je weet nooit helemaal zeker hoe ze gekweekt zijn. Door zelf te telen\, kies je voor schoon\, onbespoten en duurzaam – én het is makkelijker dan je denkt! \nIn deze workshop leren we je hoe je van maart tot november je eigen eetbare bloemen kunt kweken en verwerken. We bieden een combinatie van praktische kennis over teelt en inspiratie voor in de keuken. Daarom geef ik deze workshop samen met Marjo van De Koninginnetuin in Heelsum (www.dekoninginnetuin.nl). \nWat kun je verwachten? \n\nEen rondleiding door de voorbeeldtuin met eetbare bloemen\nUitleg over de basisprincipes van zelf telen\, makkelijke soorten en vermeerderingstechnieken\nProeven van bloemen die op dat moment bloeien\nZelf bloemen plukken en verwerken in boter/heksenkaas en een geurige bloemenazijn\nJe eigen creaties mee naar huis\, inclusief recepten en informatie over eetbare bloemen\nBloemige thee en iets lekkers om de middag compleet te maken\n\nKom je ook? \n  \n  \n  \n  \n  \n  \n  \n  \n 
URL:https://degroeneketel.nl/event/workshop-eetbare-bloemen/
LOCATION:De Koninginnetuin\, Koninginnelaan 4\, Heelsum
ATTACH;FMTTYPE=image/jpeg:https://degroeneketel.nl/wp-content/uploads/2025/02/bloemenazijn.jpg
ORGANIZER;CN="Marieke & Marjo":MAILTO:info@degroeneketel.nl
END:VEVENT
BEGIN:VEVENT
DTSTART;VALUE=DATE:20261017
DTEND;VALUE=DATE:20261019
DTSTAMP:20260425T143338
CREATED:20251222T104144Z
LAST-MODIFIED:20251222T111951Z
UID:4075-1792195200-1792367999@degroeneketel.nl
SUMMARY:Stroomgebied Zuid-Veluwe – Weekendervaring (aankondiging)
DESCRIPTION:Voor wie het complete verhaal van het Stroomgebied Zuid-Veluwe wil ervaren\, komt er een meerdaagse weekendvariant waarin alles samenkomt wat dit eeuwenoude landschap zo bijzonder maakt. Dit weekend is ontworpen als een doorlopende\, verdiepende reis\, waarin natuur\, cultuur\, spiritualiteit en gastronomie elkaar op een vanzelfsprekende manier ontmoeten. \nGedurende meerdere dagen dompel je je onder in het ritme van het landschap. We verkennen bossen\, uiterwaarden en oude cultuurlandschappen\, luisteren naar verhalen die hier al generaties lang worden verteld en staan stil bij rituelen die mensen al duizenden jaren verbinden met het land onder hun voeten. Oude mythen\, volksverhalen en druïdische tradities vormen de rode draad\, steeds gekoppeld aan de plekken waar ze hun oorsprong vonden. \nNaast het beleven en verdiepen is er veel aandacht voor smaak en voeding. De maaltijden zijn geen bijzaak\, maar een wezenlijk onderdeel van de ervaring. Met aandacht en vakmanschap bereid\, geïnspireerd door het seizoen en het terroir van het Stroomgebied Zuid-Veluwe. Samen eten\, koken en proeven versterkt de verbinding met elkaar en met het landschap. \nHet weekend vindt plaats in een kleine groep\, zodat er ruimte is voor persoonlijke aandacht\, rust en verstilling. Er is tijd om te wandelen\, te luisteren\, vragen te stellen en ervaringen te laten bezinken. Geen vol programma\, maar een zorgvuldig opgebouwd geheel dat uitnodigt tot vertragen en verdiepen. \n✔ Inclusief ontbijt\, lunch en diner✔ Kleinschalig en persoonlijk✔ Ruimte voor verdieping\, rust en verbinding \nMeer informatie over het programma\, de locatie en praktische details volgt binnenkort.Ben je geïnteresseerd en wil je als eerste op de hoogte zijn? Schrijf je in op de wachtlijst en ontvang een mail zodra de tickets beschikbaar komen. \nBekijk locatie
URL:https://degroeneketel.nl/event/stroomgebied-zuid-veluwe-weekendervaring/
LOCATION:Nivonhuis De Bosbeek\, Bosbeekweg 19-21\, Bennekom
ATTACH;FMTTYPE=image/jpeg:https://degroeneketel.nl/wp-content/uploads/2019/03/Mariekfavloopt-Copy-scaled.jpg
ORGANIZER;CN="Marieke":MAILTO:info@degroeneketel.nl
END:VEVENT
END:VCALENDAR