BEGIN:VCALENDAR
VERSION:2.0
PRODID:-//De Groene Ketel - ECPv6.15.20//NONSGML v1.0//EN
CALSCALE:GREGORIAN
METHOD:PUBLISH
X-WR-CALNAME:De Groene Ketel
X-ORIGINAL-URL:https://degroeneketel.nl
X-WR-CALDESC:Evenementen voor De Groene Ketel
REFRESH-INTERVAL;VALUE=DURATION:PT1H
X-Robots-Tag:noindex
X-PUBLISHED-TTL:PT1H
BEGIN:VTIMEZONE
TZID:Europe/Amsterdam
BEGIN:DAYLIGHT
TZOFFSETFROM:+0100
TZOFFSETTO:+0200
TZNAME:CEST
DTSTART:20250330T010000
END:DAYLIGHT
BEGIN:STANDARD
TZOFFSETFROM:+0200
TZOFFSETTO:+0100
TZNAME:CET
DTSTART:20251026T010000
END:STANDARD
BEGIN:DAYLIGHT
TZOFFSETFROM:+0100
TZOFFSETTO:+0200
TZNAME:CEST
DTSTART:20260329T010000
END:DAYLIGHT
BEGIN:STANDARD
TZOFFSETFROM:+0200
TZOFFSETTO:+0100
TZNAME:CET
DTSTART:20261025T010000
END:STANDARD
BEGIN:DAYLIGHT
TZOFFSETFROM:+0100
TZOFFSETTO:+0200
TZNAME:CEST
DTSTART:20270328T010000
END:DAYLIGHT
BEGIN:STANDARD
TZOFFSETFROM:+0200
TZOFFSETTO:+0100
TZNAME:CET
DTSTART:20271031T010000
END:STANDARD
END:VTIMEZONE
BEGIN:VEVENT
DTSTART;VALUE=DATE:20261017
DTEND;VALUE=DATE:20261019
DTSTAMP:20260425T174931
CREATED:20251222T104144Z
LAST-MODIFIED:20251222T111951Z
UID:4075-1792195200-1792367999@degroeneketel.nl
SUMMARY:Stroomgebied Zuid-Veluwe – Weekendervaring (aankondiging)
DESCRIPTION:Voor wie het complete verhaal van het Stroomgebied Zuid-Veluwe wil ervaren\, komt er een meerdaagse weekendvariant waarin alles samenkomt wat dit eeuwenoude landschap zo bijzonder maakt. Dit weekend is ontworpen als een doorlopende\, verdiepende reis\, waarin natuur\, cultuur\, spiritualiteit en gastronomie elkaar op een vanzelfsprekende manier ontmoeten. \nGedurende meerdere dagen dompel je je onder in het ritme van het landschap. We verkennen bossen\, uiterwaarden en oude cultuurlandschappen\, luisteren naar verhalen die hier al generaties lang worden verteld en staan stil bij rituelen die mensen al duizenden jaren verbinden met het land onder hun voeten. Oude mythen\, volksverhalen en druïdische tradities vormen de rode draad\, steeds gekoppeld aan de plekken waar ze hun oorsprong vonden. \nNaast het beleven en verdiepen is er veel aandacht voor smaak en voeding. De maaltijden zijn geen bijzaak\, maar een wezenlijk onderdeel van de ervaring. Met aandacht en vakmanschap bereid\, geïnspireerd door het seizoen en het terroir van het Stroomgebied Zuid-Veluwe. Samen eten\, koken en proeven versterkt de verbinding met elkaar en met het landschap. \nHet weekend vindt plaats in een kleine groep\, zodat er ruimte is voor persoonlijke aandacht\, rust en verstilling. Er is tijd om te wandelen\, te luisteren\, vragen te stellen en ervaringen te laten bezinken. Geen vol programma\, maar een zorgvuldig opgebouwd geheel dat uitnodigt tot vertragen en verdiepen. \n✔ Inclusief ontbijt\, lunch en diner✔ Kleinschalig en persoonlijk✔ Ruimte voor verdieping\, rust en verbinding \nMeer informatie over het programma\, de locatie en praktische details volgt binnenkort.Ben je geïnteresseerd en wil je als eerste op de hoogte zijn? Schrijf je in op de wachtlijst en ontvang een mail zodra de tickets beschikbaar komen. \nBekijk locatie
URL:https://degroeneketel.nl/event/stroomgebied-zuid-veluwe-weekendervaring/
LOCATION:Nivonhuis De Bosbeek\, Bosbeekweg 19-21\, Bennekom
ATTACH;FMTTYPE=image/jpeg:https://degroeneketel.nl/wp-content/uploads/2019/03/Mariekfavloopt-Copy-scaled.jpg
ORGANIZER;CN="Marieke":MAILTO:info@degroeneketel.nl
END:VEVENT
END:VCALENDAR