BEGIN:VCALENDAR
VERSION:2.0
PRODID:-//De Groene Ketel - ECPv6.15.20//NONSGML v1.0//EN
CALSCALE:GREGORIAN
METHOD:PUBLISH
X-WR-CALNAME:De Groene Ketel
X-ORIGINAL-URL:https://degroeneketel.nl
X-WR-CALDESC:Evenementen voor De Groene Ketel
REFRESH-INTERVAL;VALUE=DURATION:PT1H
X-Robots-Tag:noindex
X-PUBLISHED-TTL:PT1H
BEGIN:VTIMEZONE
TZID:Europe/Amsterdam
BEGIN:DAYLIGHT
TZOFFSETFROM:+0100
TZOFFSETTO:+0200
TZNAME:CEST
DTSTART:20240331T010000
END:DAYLIGHT
BEGIN:STANDARD
TZOFFSETFROM:+0200
TZOFFSETTO:+0100
TZNAME:CET
DTSTART:20241027T010000
END:STANDARD
BEGIN:DAYLIGHT
TZOFFSETFROM:+0100
TZOFFSETTO:+0200
TZNAME:CEST
DTSTART:20250330T010000
END:DAYLIGHT
BEGIN:STANDARD
TZOFFSETFROM:+0200
TZOFFSETTO:+0100
TZNAME:CET
DTSTART:20251026T010000
END:STANDARD
BEGIN:DAYLIGHT
TZOFFSETFROM:+0100
TZOFFSETTO:+0200
TZNAME:CEST
DTSTART:20260329T010000
END:DAYLIGHT
BEGIN:STANDARD
TZOFFSETFROM:+0200
TZOFFSETTO:+0100
TZNAME:CET
DTSTART:20261025T010000
END:STANDARD
END:VTIMEZONE
BEGIN:VEVENT
DTSTART;TZID=Europe/Amsterdam:20250621T103000
DTEND;TZID=Europe/Amsterdam:20250621T123000
DTSTAMP:20260425T173231
CREATED:20250421T075846Z
LAST-MODIFIED:20250428T110955Z
UID:3696-1750501800-1750509000@degroeneketel.nl
SUMMARY:Midzomer Kruidenwandeling voor priesteressen van Moon Mystery School
DESCRIPTION:Inhoud is beschermd.
URL:https://degroeneketel.nl/event/midzomer-kruidenwandeling/
LOCATION:Renkum / Wageningen omgeving\, Renkum\, Gelderland\, Netherlands
END:VEVENT
BEGIN:VEVENT
DTSTART;TZID=Europe/Amsterdam:20250405T120000
DTEND;TZID=Europe/Amsterdam:20250405T170000
DTSTAMP:20260425T173231
CREATED:20250328T161132Z
LAST-MODIFIED:20250328T161132Z
UID:3671-1743854400-1743872400@degroeneketel.nl
SUMMARY:Kijkje in de Keuken!
DESCRIPTION:Tijdens de Rode Loper Dagen openen wij met veel enthousiasme de deuren van onze keuken! Kom langs en ontdek wat De Groene Ketel en D.O.N.S. Catering voor jouw evenement kunnen betekenen. \n\n\n\n\n\n\n\n\n\n\n\n\n\nWat kun je verwachten?👨‍🍳 Ontmoet Giel van D.O.N.S. Catering en Marieke van De Groene Ketel – twee bevlogen koks die met liefde en aandacht koken voor elke gelegenheid: \n✨ Feestjes\, bruiloften\, zakelijke lunches & teamuitjes🚚 Catering & foodtruck voor (duurzame) festivals🍲 Diverse kookworkshops – van fermenteren tot fine dining\, op locatie of in onze gezellige keuken🏡 Keukenverhuur – ideaal voor kookworkshops\, vergaderingen of kleine feestjes \nKom langs\, proef onze smaken en laat je inspireren! Onder het genot van een hapje en een drankje vertellen we je graag meer over onze culinaire mogelijkheden. \nWees welkom!
URL:https://degroeneketel.nl/event/kijkje-in-de-keuken/
LOCATION:De Groene Ketel\, Nude 28B\, Wageningen\, Gelderland\, 6702 DJ\, Netherlands
ATTACH;FMTTYPE=image/jpeg:https://degroeneketel.nl/wp-content/uploads/2025/03/kijkjeindekeuken.jpg
END:VEVENT
BEGIN:VEVENT
DTSTART;TZID=Europe/Amsterdam:20250321T100000
DTEND;TZID=Europe/Amsterdam:20250321T160000
DTSTAMP:20260425T173231
CREATED:20250212T122407Z
LAST-MODIFIED:20250212T132817Z
UID:3593-1742551200-1742572800@degroeneketel.nl
SUMMARY:Verdiepings-workshop: Magie van Kruiden
DESCRIPTION:Deze dag gaan we wat dieper in op een kruidig aspect van Magisch en afgestemd koken namelijk Kruiden Magie. \nWe duiken samen in de magische eigenschappen van kruiden\, we maken een kruiden/wildpluk wandeling en gaan lekker koken met kruiden. \nWe koken intuitief zonder receptuur en het resultaat mag lekker mee naar huis! \nDe drie verdiepingsworkshops zijn los te volgen maar mocht je ze alle drie willen volgen dan kan dit tegen een gereduceerde prijs! Voor 222\,- euro kan je ze alle drie volgen! \nIncl. koffie \, thee\, lekkers en lunch
URL:https://degroeneketel.nl/event/verdiepings-workshop-magisch-afgestemd-koken-kruiden/
LOCATION:De Groene Ketel\, Nude 28B\, Wageningen\, Gelderland\, 6702 DJ\, Netherlands
ATTACH;FMTTYPE=image/png:https://degroeneketel.nl/wp-content/uploads/2025/02/3.png
ORGANIZER;CN="Marieke":MAILTO:info@degroeneketel.nl
END:VEVENT
BEGIN:VEVENT
DTSTART;TZID=Europe/Amsterdam:20250319T150000
DTEND;TZID=Europe/Amsterdam:20250319T170000
DTSTAMP:20260425T173231
CREATED:20241121T114535Z
LAST-MODIFIED:20241121T121627Z
UID:3476-1742396400-1742403600@degroeneketel.nl
SUMMARY:Kruidenwandeling met Proeverij
DESCRIPTION:Ontdek de Smaak van de Natuur tijdens een Kruidenwandeling\nStap in de wereld van wilde kruiden en eetbare bloemen tijdens deze inspirerende kruidenwandeling! Onder mijn begeleiding trekken we eropuit om te leren welke planten je kunt herkennen\, plukken en gebruiken in de keuken. We ontdekken samen de verborgen schatten van de natuur en staan stil bij de veelzijdigheid en kracht van kruiden. \nNa de kruidenwandeling wacht een heerlijke afsluiting: een proeverij van zelfgemaakte lekkernijen bereid met kruiden en eetbare bloemen die we tijdens onze tocht bespreken (en natuurlijk koffie en thee!). Laat je verrassen door de pure smaken van de natuur en neem inspiratie mee voor in je eigen keuken! \nWat kun je verwachten?\n\nEen kruidenwandeling van ongeveer 1\,5 uur langs eetbare planten en kruiden.\nPraktische tips over het veilig plukken en verwerken van kruiden.\nInspirerende verhalen over de geneeskrachtige werking en culinaire toepassingen.\nEen gezellige proeverij van hartige en zoete gerechtjes met wilde kruiden en bloemen.
URL:https://degroeneketel.nl/event/kruidenwandeling-met-proeverij-2/
LOCATION:Renkum / Wageningen omgeving\, Renkum\, Gelderland\, Netherlands
ATTACH;FMTTYPE=image/jpeg:https://degroeneketel.nl/wp-content/uploads/2024/11/braampluk-scaled-e1732189703356.jpg
ORGANIZER;CN="Marieke":MAILTO:info@degroeneketel.nl
END:VEVENT
BEGIN:VEVENT
DTSTART;TZID=Europe/Amsterdam:20250314T100000
DTEND;TZID=Europe/Amsterdam:20250314T160000
DTSTAMP:20260425T173231
CREATED:20250212T122249Z
LAST-MODIFIED:20250212T132757Z
UID:3591-1741946400-1741968000@degroeneketel.nl
SUMMARY:Verdiepings-workshop: de Keuken een Tempel en de Tafel een Altaar
DESCRIPTION:Deze dag gaan we wat dieper in op het volgende aspect van magisch en afgestemd koken: \nDe heiligheid en energie van de ruimte \, de afgestemde tafelaankleding en gaan we gezamenlijk koken met het jaarfeest voedingswiel als leidraad. \nWe koken intuitief en zonder receptuur en het resultaat mag lekker mee naar huis! \nIncl. koffie\, thee\, lekkers en lunch. \nDe drie verdiepingsworkshops zijn los te volgen maar mocht je ze alle drie willen volgen dan kan dit tegen een gereduceerde prijs! Voor 222\,- euro kan je ze alle drie volgen!
URL:https://degroeneketel.nl/event/verdiepings-workshop-magisch-koken-kookworkshop/
LOCATION:De Groene Ketel\, Nude 28B\, Wageningen\, Gelderland\, 6702 DJ\, Netherlands
ATTACH;FMTTYPE=image/png:https://degroeneketel.nl/wp-content/uploads/2025/02/2.png
ORGANIZER;CN="Marieke":MAILTO:info@degroeneketel.nl
END:VEVENT
END:VCALENDAR