BEGIN:VCALENDAR
VERSION:2.0
PRODID:-//De Groene Ketel - ECPv6.15.20//NONSGML v1.0//EN
CALSCALE:GREGORIAN
METHOD:PUBLISH
X-ORIGINAL-URL:https://degroeneketel.nl
X-WR-CALDESC:Evenementen voor De Groene Ketel
REFRESH-INTERVAL;VALUE=DURATION:PT1H
X-Robots-Tag:noindex
X-PUBLISHED-TTL:PT1H
BEGIN:VTIMEZONE
TZID:Europe/Amsterdam
BEGIN:DAYLIGHT
TZOFFSETFROM:+0100
TZOFFSETTO:+0200
TZNAME:CEST
DTSTART:20250330T010000
END:DAYLIGHT
BEGIN:STANDARD
TZOFFSETFROM:+0200
TZOFFSETTO:+0100
TZNAME:CET
DTSTART:20251026T010000
END:STANDARD
BEGIN:DAYLIGHT
TZOFFSETFROM:+0100
TZOFFSETTO:+0200
TZNAME:CEST
DTSTART:20260329T010000
END:DAYLIGHT
BEGIN:STANDARD
TZOFFSETFROM:+0200
TZOFFSETTO:+0100
TZNAME:CET
DTSTART:20261025T010000
END:STANDARD
BEGIN:DAYLIGHT
TZOFFSETFROM:+0100
TZOFFSETTO:+0200
TZNAME:CEST
DTSTART:20270328T010000
END:DAYLIGHT
BEGIN:STANDARD
TZOFFSETFROM:+0200
TZOFFSETTO:+0100
TZNAME:CET
DTSTART:20271031T010000
END:STANDARD
END:VTIMEZONE
BEGIN:VEVENT
DTSTART;TZID=Europe/Amsterdam:20260322T103000
DTEND;TZID=Europe/Amsterdam:20260322T123000
DTSTAMP:20260425T124843
CREATED:20251104T145119Z
LAST-MODIFIED:20260107T200902Z
UID:3982-1774175400-1774182600@degroeneketel.nl
SUMMARY:Wildpluk wandeling
DESCRIPTION:We starten de wildpluk wandeling in onze kookstudio in Wageningen met een kopje kruidige thee en wat lekkers om rustig te landen. \nRond 10.45 uur wandelen we samen naar de uiterwaarden\, waar Marieke je meeneemt op een inspirerende ontdekkingsreis langs kruiden en bomen. Ontdek welke planten eetbaar zijn\, welke voedingswaarde ze hebben en hoe je ze kunt gebruiken in de keuken. Daarnaast deelt Marieke verhalen\, mythologische weetjes en verrassende tips uit de wereld van wildpluk en natuur. \nEen dag vol inspiratie\, kennis én praktische tips om de natuur letterlijk op je bord te brengen!
URL:https://degroeneketel.nl/event/wildpluk-wandeling/
LOCATION:De Groene Ketel\, Nude 28B\, Wageningen\, Gelderland\, 6702 DJ\, Netherlands
ATTACH;FMTTYPE=image/jpeg:https://degroeneketel.nl/wp-content/uploads/2024/11/brandnetelmand-scaled-e1762270091394.jpg
ORGANIZER;CN="Marieke":MAILTO:info@degroeneketel.nl
END:VEVENT
END:VCALENDAR