BEGIN:VCALENDAR
VERSION:2.0
PRODID:-//De Groene Ketel - ECPv6.15.20//NONSGML v1.0//EN
CALSCALE:GREGORIAN
METHOD:PUBLISH
X-ORIGINAL-URL:https://degroeneketel.nl
X-WR-CALDESC:Evenementen voor De Groene Ketel
REFRESH-INTERVAL;VALUE=DURATION:PT1H
X-Robots-Tag:noindex
X-PUBLISHED-TTL:PT1H
BEGIN:VTIMEZONE
TZID:Europe/Amsterdam
BEGIN:DAYLIGHT
TZOFFSETFROM:+0100
TZOFFSETTO:+0200
TZNAME:CEST
DTSTART:20250330T010000
END:DAYLIGHT
BEGIN:STANDARD
TZOFFSETFROM:+0200
TZOFFSETTO:+0100
TZNAME:CET
DTSTART:20251026T010000
END:STANDARD
BEGIN:DAYLIGHT
TZOFFSETFROM:+0100
TZOFFSETTO:+0200
TZNAME:CEST
DTSTART:20260329T010000
END:DAYLIGHT
BEGIN:STANDARD
TZOFFSETFROM:+0200
TZOFFSETTO:+0100
TZNAME:CET
DTSTART:20261025T010000
END:STANDARD
BEGIN:DAYLIGHT
TZOFFSETFROM:+0100
TZOFFSETTO:+0200
TZNAME:CEST
DTSTART:20270328T010000
END:DAYLIGHT
BEGIN:STANDARD
TZOFFSETFROM:+0200
TZOFFSETTO:+0100
TZNAME:CET
DTSTART:20271031T010000
END:STANDARD
END:VTIMEZONE
BEGIN:VEVENT
DTSTART;TZID=Europe/Amsterdam:20260206T103000
DTEND;TZID=Europe/Amsterdam:20260206T160000
DTSTAMP:20260425T124721
CREATED:20251104T144021Z
LAST-MODIFIED:20260128T145657Z
UID:3975-1770373800-1770393600@degroeneketel.nl
SUMMARY:Kookworkshop Moonpause Voeding & Overgang
DESCRIPTION:De overgang is een periode waarin je lichaam en hormonen wat extra aandacht verdienen. Tijdens deze workshop ontdek je hoe voeding je in deze fase kan ondersteunen. Samen duiken we de keuken in om eenvoudige\, heerlijke gerechten te bereiden. Je leert welke voedingsmiddelen in je keukenkast of koelkast essentieel zijn en hoe je op een praktische manier voeding kunt integreren die je hormoonbalans ondersteunt. \nWe starten de dag met heldere\, duidelijke informatie over hormonen en voeding. Daarna gaan we gezamenlijk aan de slag in de keuken om een uitgebreide lunch te bereiden\, inclusief handige tips en trucs die je thuis eenvoudig kunt toepassen. Na de lunch maken we diverse gezonde en voedzame snacks: lekkere tussendoortjes die goed zijn voor je lijf. \nDeze workshop is ook geschikt voor iedereen die gezonder wil leven en koken\, ook als je niet in de overgang bent. \nInclusief koffie\, thee\, lekkers en een voedzame ‘overgangs’-lunch.
URL:https://degroeneketel.nl/event/kookworkshop-voeding-in-de-overgang-moonpause/
LOCATION:De Groene Ketel\, Nude 28B\, Wageningen\, Gelderland\, 6702 DJ\, Netherlands
ATTACH;FMTTYPE=image/jpeg:https://degroeneketel.nl/wp-content/uploads/2024/11/meidoornhanden-scaled-e1762269535246.jpg
ORGANIZER;CN="Marieke":MAILTO:info@degroeneketel.nl
END:VEVENT
END:VCALENDAR